BEGIN:VCALENDAR
VERSION:2.0
PRODID:-//Hunsdon Parish Council//Meeting Calendar//EN
CALSCALE:GREGORIAN
METHOD:PUBLISH
BEGIN:VEVENT
UID:70489-20250414@hunsdonparishcouncil.gov.uk
DTSTAMP:20260422T211456Z
DTSTART;VALUE=DATE:20250414
DTEND;VALUE=DATE:20250415
SUMMARY:Parish Council Meeting &#8211\\; 14 April 2025
DESCRIPTION:Full Council Meeting\nView details: https://hunsdonparishcouncil.gov.uk/meetings/parish-council-meeting-14-april-2025/
URL:https://hunsdonparishcouncil.gov.uk/meetings/parish-council-meeting-14-april-2025/
END:VEVENT
END:VCALENDAR
